BEGIN:VCALENDAR
VERSION:2.0
PRODID:-//Manhasset CASA - ECPv5.9.0//NONSGML v1.0//EN
CALSCALE:GREGORIAN
METHOD:PUBLISH
X-WR-CALNAME:Manhasset CASA
X-ORIGINAL-URL:https://manhassetcasa.org
X-WR-CALDESC:Events for Manhasset CASA
BEGIN:VTIMEZONE
TZID:America/New_York
BEGIN:DAYLIGHT
TZOFFSETFROM:-0500
TZOFFSETTO:-0400
TZNAME:EDT
DTSTART:20210314T070000
END:DAYLIGHT
BEGIN:STANDARD
TZOFFSETFROM:-0400
TZOFFSETTO:-0500
TZNAME:EST
DTSTART:20211107T060000
END:STANDARD
END:VTIMEZONE
BEGIN:VEVENT
DTSTART;TZID=America/New_York:20211026T093000
DTEND;TZID=America/New_York:20211026T103000
DTSTAMP:20260421T102241
CREATED:20211022T203756Z
LAST-MODIFIED:20211022T203756Z
UID:5490-1635240600-1635244200@manhassetcasa.org
SUMMARY:Marijuana-What's changed? Why is it so dangerous? What do I tell my kids?
DESCRIPTION:Parents face more challenges than ever before in having conversations around marijuana use.  Even though this drug is more potent than ever\, the perception of harm is at an all-time low due to legalization and medicinal use.  The ease of purchasing edibles and purchasing through social media is contributing to increased adolescent and teen use. Understand the vital role you play in preventing marijuana use and gain skills in having effective conversations and setting expectations. \n  \nParent Flyer 10 26 21
URL:https://manhassetcasa.org/event/marijuana-whats-changed-why-is-it-so-dangerous-what-do-i-tell-my-kids/
LOCATION:Munsey Park Elementary School Auditorium\, One Hunt Lane\, Manhasset\, NY\, 11030
CATEGORIES:Parent Education
END:VEVENT
END:VCALENDAR