BEGIN:VCALENDAR
VERSION:2.0
PRODID:-//Manhasset CASA - ECPv5.9.0//NONSGML v1.0//EN
CALSCALE:GREGORIAN
METHOD:PUBLISH
X-WR-CALNAME:Manhasset CASA
X-ORIGINAL-URL:https://manhassetcasa.org
X-WR-CALDESC:Events for Manhasset CASA
BEGIN:VTIMEZONE
TZID:America/New_York
BEGIN:DAYLIGHT
TZOFFSETFROM:-0500
TZOFFSETTO:-0400
TZNAME:EDT
DTSTART:20200308T070000
END:DAYLIGHT
BEGIN:STANDARD
TZOFFSETFROM:-0400
TZOFFSETTO:-0500
TZNAME:EST
DTSTART:20201101T060000
END:STANDARD
END:VTIMEZONE
BEGIN:VEVENT
DTSTART;TZID=America/New_York:20200212T143000
DTEND;TZID=America/New_York:20200212T153000
DTSTAMP:20260422T212015
CREATED:20200127T212800Z
LAST-MODIFIED:20200127T212800Z
UID:5219-1581517800-1581521400@manhassetcasa.org
SUMMARY:Vaping\, JUUL and E-cigarettes an Educational Presentation
DESCRIPTION:Vaping\, JUUL and E-cigarettes:  A Public Health Crisis \nLearn the myths and facts associated with vaping and e-cigarettes. \nPresented by Dr. David Fagan\, Vice-Chairman for Pediatric Ambulatory Administration at Cohen Children’s Medical Center-Northwell Health\, overseeing Northwell’s network of 18 community based pediatric primary care practices.  Prior to joining Northwell\, Dr. Fagan was the Chairman and Program Director of the Department of Pediatrics at Nassau University Medical Center. Dr. Fagan is active in the American Academy of Pediatrics and does advocacy work around vaping as well as bullying prevention. \n“We have an obligation to act on what we know. And what we know is very disturbing. Kids use of e-cigarettes has reached an epidemic level of growth.”1 \n1 FDA statement in response to federal data about electronic cigarettes.
URL:https://manhassetcasa.org/event/vaping-juul-and-e-cigarettes-an-educational-presentation/
LOCATION:Manhasset Secondary School
CATEGORIES:Parent Education
END:VEVENT
END:VCALENDAR