BEGIN:VCALENDAR
VERSION:2.0
PRODID:-//Manhasset CASA - ECPv5.9.0//NONSGML v1.0//EN
CALSCALE:GREGORIAN
METHOD:PUBLISH
X-WR-CALNAME:Manhasset CASA
X-ORIGINAL-URL:https://manhassetcasa.org
X-WR-CALDESC:Events for Manhasset CASA
BEGIN:VTIMEZONE
TZID:America/New_York
BEGIN:DAYLIGHT
TZOFFSETFROM:-0500
TZOFFSETTO:-0400
TZNAME:EDT
DTSTART:20180311T070000
END:DAYLIGHT
BEGIN:STANDARD
TZOFFSETFROM:-0400
TZOFFSETTO:-0500
TZNAME:EST
DTSTART:20181104T060000
END:STANDARD
END:VTIMEZONE
BEGIN:VEVENT
DTSTART;TZID=America/New_York:20181023T051500
DTEND;TZID=America/New_York:20181023T061500
DTSTAMP:20260425T091015
CREATED:20181022T210214Z
LAST-MODIFIED:20181022T210646Z
UID:5072-1540271700-1540275300@manhassetcasa.org
SUMMARY:SCA Joint Parent Council Meeting
DESCRIPTION:At the Joint Parent Council Meeting\, CASA Presents : Cultivating Kindness\, ReesSpecht Life Foundation\nRich Specht\, will share his moving story of how kindness changed his family in the wake of a terrible tragedy; providing parents with an overview of the student presentation and reminding us that we too can make the world a kinder place!
URL:https://manhassetcasa.org/event/sca-joint-parent-council-meeting/
LOCATION:Shelter Rock Elemetary School\, 27A Shelter Rock Road\, Manhasset\, 11030
CATEGORIES:Parent Education
END:VEVENT
END:VCALENDAR