BEGIN:VCALENDAR
VERSION:2.0
PRODID:-//Manhasset CASA - ECPv5.9.0//NONSGML v1.0//EN
CALSCALE:GREGORIAN
METHOD:PUBLISH
X-WR-CALNAME:Manhasset CASA
X-ORIGINAL-URL:https://manhassetcasa.org
X-WR-CALDESC:Events for Manhasset CASA
BEGIN:VTIMEZONE
TZID:America/New_York
BEGIN:DAYLIGHT
TZOFFSETFROM:-0500
TZOFFSETTO:-0400
TZNAME:EDT
DTSTART:20240310T070000
END:DAYLIGHT
BEGIN:STANDARD
TZOFFSETFROM:-0400
TZOFFSETTO:-0500
TZNAME:EST
DTSTART:20241103T060000
END:STANDARD
END:VTIMEZONE
BEGIN:VEVENT
DTSTART;TZID=America/New_York:20241026T093000
DTEND;TZID=America/New_York:20241026T113000
DTSTAMP:20260421T014806
CREATED:20241017T141211Z
LAST-MODIFIED:20241017T141211Z
UID:5706-1729935000-1729942200@manhassetcasa.org
SUMMARY:Shed the Meds
DESCRIPTION:Drive up and drop off your unused or expired medication.  Protect the environment\, family and friends. \nShed the Meds 10 2024
URL:https://manhassetcasa.org/event/shed-the-meds/
LOCATION:Shelter Rock Elemetary School\, 27A Shelter Rock Road\, Manhasset\, 11030
END:VEVENT
END:VCALENDAR