BEGIN:VCALENDAR
VERSION:2.0
PRODID:-//Manhasset CASA - ECPv5.9.0//NONSGML v1.0//EN
CALSCALE:GREGORIAN
METHOD:PUBLISH
X-WR-CALNAME:Manhasset CASA
X-ORIGINAL-URL:https://manhassetcasa.org
X-WR-CALDESC:Events for Manhasset CASA
BEGIN:VTIMEZONE
TZID:America/New_York
BEGIN:DAYLIGHT
TZOFFSETFROM:-0500
TZOFFSETTO:-0400
TZNAME:EDT
DTSTART:20210314T070000
END:DAYLIGHT
BEGIN:STANDARD
TZOFFSETFROM:-0400
TZOFFSETTO:-0500
TZNAME:EST
DTSTART:20211107T060000
END:STANDARD
END:VTIMEZONE
BEGIN:VEVENT
DTSTART;TZID=America/New_York:20210218T140000
DTEND;TZID=America/New_York:20210218T153000
DTSTAMP:20260425T112613
CREATED:20210210T200830Z
LAST-MODIFIED:20210210T200830Z
UID:5326-1613656800-1613662200@manhassetcasa.org
SUMMARY:Project H.E.L.P. Long Island - COVID's Toll on our Frontline Workers
DESCRIPTION:COVID-19 has caused unforeseen consequences on our communities and especially our important frontline workers. Most are exhausted\, traumatized and experiencing compassion fatigue.\nJoin us as we hear their stories and learn how we all can be helpful and come together as a community. \nGuest Speakers:\n1. Eileen Clayton\, R.N.\, B.S. – Critical Care\, Nursing Education and Hospital Management. E-mail:\nEiclayton@msn.com. Ph: 208.941.1821\n2. Elizabeth Weisburd – EMT-B\, Port Washington Fire Department\, Fire Medic Company 1\nE-mail: eweisburd@portnet.org\n3. Celia Vollmer – American Red Cross – Disaster Services Supervisor\, Mass Lead Care\, and Instructor.\nPh: 631-617-2346\, Email: Celia.vollmer3@redcross.org\n4. Dr. Alec Cecil – Psychologist\, American Red Cross – Disaster Mental Health\, and Service to the Armed\nForces. Email: alec.cecil@redcross.org\n5. Randi Shubin Dresner – President & CEO\, Island Harvest Food Bank. Ph: 631.873.4775\n6. Major Soo Kim – The Salvation Army\, Hempstead Citadel Corps\, 45 Atlantic Avenue\, Hempstead\, NY\n11550. Ph: 516.485.4900 Email: Soojung.kim@use.salvationarmy.org\n7. Major Young Sung Kim – The Salvation Army\, Hempstead Citadel Corps\, 45 Atlantic Ave. Hempstead\,\nNY 11550. Ph: 516.485.4900 Email: Youngsung.kim@use.salvationarmy.org \nhttps://us02web.zoom.us/j/89288593492 \nMeeting ID: 892 8859 3492\nPasscode: 332392 * Dial by your location\, +16465588656 US (New York)
URL:https://manhassetcasa.org/event/project-h-e-l-p-long-island-covids-toll-on-our-frontline-workers/
LOCATION:ZOOM MEETING
END:VEVENT
END:VCALENDAR