BEGIN:VCALENDAR
VERSION:2.0
PRODID:-//Manhasset CASA - ECPv5.9.0//NONSGML v1.0//EN
CALSCALE:GREGORIAN
METHOD:PUBLISH
X-WR-CALNAME:Manhasset CASA
X-ORIGINAL-URL:https://manhassetcasa.org
X-WR-CALDESC:Events for Manhasset CASA
BEGIN:VTIMEZONE
TZID:America/New_York
BEGIN:DAYLIGHT
TZOFFSETFROM:-0500
TZOFFSETTO:-0400
TZNAME:EDT
DTSTART:20190310T070000
END:DAYLIGHT
BEGIN:STANDARD
TZOFFSETFROM:-0400
TZOFFSETTO:-0500
TZNAME:EST
DTSTART:20191103T060000
END:STANDARD
END:VTIMEZONE
BEGIN:VEVENT
DTSTART;TZID=America/New_York:20190610T153000
DTEND;TZID=America/New_York:20190610T170000
DTSTAMP:20260425T103459
CREATED:20190523T180548Z
LAST-MODIFIED:20190523T180548Z
UID:5155-1560180600-1560186000@manhassetcasa.org
SUMMARY:JUUL\, Vaping & E-Cigarettes:  What You Need to Know to Stop the Epidemic!
DESCRIPTION:Mandarin Translation will be provided! \nWE WILL DISCUSS: \n\nWhat vaping is.\nWhy we should be concerned.\nHow to identify the devices.\nSigns to look for to determine if your child is vaping.\n\nThe Centers for Disease Control and Prevention’s 2017 National Youth Tobacco Survey reported more than 2 million middle school\, high school and college students vape. Preliminary federal data shows vaping by high school students is up by about 75% this year. \nSign Up: https://www.signupgenius.com/go/20F0E4EA8A923A64-juul
URL:https://manhassetcasa.org/event/juul-vaping-e-cigarettes-what-you-need-to-know-to-stop-the-epidemic/
LOCATION:Manhasset Public Library\, 30 Onderdonk Avenue\, Manhasset\, NY\, 11030\, United States
END:VEVENT
END:VCALENDAR