BEGIN:VCALENDAR
VERSION:2.0
PRODID:-//Manhasset CASA - ECPv5.9.0//NONSGML v1.0//EN
CALSCALE:GREGORIAN
METHOD:PUBLISH
X-WR-CALNAME:Manhasset CASA
X-ORIGINAL-URL:https://manhassetcasa.org
X-WR-CALDESC:Events for Manhasset CASA
BEGIN:VTIMEZONE
TZID:America/New_York
BEGIN:DAYLIGHT
TZOFFSETFROM:-0500
TZOFFSETTO:-0400
TZNAME:EDT
DTSTART:20210314T070000
END:DAYLIGHT
BEGIN:STANDARD
TZOFFSETFROM:-0400
TZOFFSETTO:-0500
TZNAME:EST
DTSTART:20211107T060000
END:STANDARD
END:VTIMEZONE
BEGIN:VEVENT
DTSTART;TZID=America/New_York:20210527T193000
DTEND;TZID=America/New_York:20210527T203000
DTSTAMP:20260421T043343
CREATED:20210421T210456Z
LAST-MODIFIED:20210517T151753Z
UID:5388-1622143800-1622147400@manhassetcasa.org
SUMMARY:"If They Had Known"
DESCRIPTION:Clay didn’t know – his friends didn’t know. \nPerhaps things would be different… \n \nLEARN 5 THINGS THAT COULD SAVE YOUR LIFE OR YOUR FRIEND’S LIFE
URL:https://manhassetcasa.org/event/if-they-had-known/
END:VEVENT
END:VCALENDAR