BEGIN:VCALENDAR
VERSION:2.0
PRODID:-//Manhasset CASA - ECPv5.9.0//NONSGML v1.0//EN
CALSCALE:GREGORIAN
METHOD:PUBLISH
X-WR-CALNAME:Manhasset CASA
X-ORIGINAL-URL:https://manhassetcasa.org
X-WR-CALDESC:Events for Manhasset CASA
BEGIN:VTIMEZONE
TZID:America/New_York
BEGIN:DAYLIGHT
TZOFFSETFROM:-0500
TZOFFSETTO:-0400
TZNAME:EDT
DTSTART:20210314T070000
END:DAYLIGHT
BEGIN:STANDARD
TZOFFSETFROM:-0400
TZOFFSETTO:-0500
TZNAME:EST
DTSTART:20211107T060000
END:STANDARD
END:VTIMEZONE
BEGIN:VEVENT
DTSTART;TZID=America/New_York:20210921T190000
DTEND;TZID=America/New_York:20210921T203000
DTSTAMP:20260420T110842
CREATED:20210917T003437Z
LAST-MODIFIED:20210917T003437Z
UID:5487-1632250800-1632256200@manhassetcasa.org
SUMMARY:FENTANYL & MARIJUANA: WHAT YOU NEED TO KNOW
DESCRIPTION:Every parent should join this session.  The landscape and risk of use has completely changed. \n\n\nClick here to register for the ZOOM event.  \n\nhttps://adelphiuniversity.zoom.us/j/96354962071
URL:https://manhassetcasa.org/event/fentanyl-marijuana-what-you-need-to-know/
LOCATION:ZOOM MEETING
END:VEVENT
END:VCALENDAR