BEGIN:VCALENDAR
VERSION:2.0
PRODID:-//Manhasset CASA - ECPv5.9.0//NONSGML v1.0//EN
CALSCALE:GREGORIAN
METHOD:PUBLISH
X-WR-CALNAME:Manhasset CASA
X-ORIGINAL-URL:https://manhassetcasa.org
X-WR-CALDESC:Events for Manhasset CASA
BEGIN:VTIMEZONE
TZID:America/New_York
BEGIN:DAYLIGHT
TZOFFSETFROM:-0500
TZOFFSETTO:-0400
TZNAME:EDT
DTSTART:20180311T070000
END:DAYLIGHT
BEGIN:STANDARD
TZOFFSETFROM:-0400
TZOFFSETTO:-0500
TZNAME:EST
DTSTART:20181104T060000
END:STANDARD
END:VTIMEZONE
BEGIN:VEVENT
DTSTART;TZID=America/New_York:20181022T060000
DTEND;TZID=America/New_York:20181022T073000
DTSTAMP:20260425T091153
CREATED:20180919T020946Z
LAST-MODIFIED:20180919T020946Z
UID:5056-1540188000-1540193400@manhassetcasa.org
SUMMARY:Coffee and Conversation in the Cafe
DESCRIPTION:Join us for this new program at the Manhasset Public Library. We will be discussing “Beautiful Boy” by best selling author David Sheff about raising his son and battling addiction.\n\nThe bestseller will be in theaters soon starring Steve Carrell\, Timothee Chalomet and Maura Tierney.\n\n\n\n\n\nExtra copies are available at the library.  Get yours and sign up here.
URL:https://manhassetcasa.org/event/coffee-conversation-cafe/
LOCATION:Manhasset Public Library\, 30 Onderdonk Avenue\, Manhasset\, NY\, 11030\, United States
ATTACH;FMTTYPE=image/jpeg:https://manhassetcasa.org/wp-content/uploads/2018/09/65336108-a84c-4998-9ca1-50107ca64d62-thumbnail.jpg
END:VEVENT
END:VCALENDAR