BEGIN:VCALENDAR
VERSION:2.0
PRODID:-//Manhasset CASA - ECPv5.9.0//NONSGML v1.0//EN
CALSCALE:GREGORIAN
METHOD:PUBLISH
X-WR-CALNAME:Manhasset CASA
X-ORIGINAL-URL:https://manhassetcasa.org
X-WR-CALDESC:Events for Manhasset CASA
BEGIN:VTIMEZONE
TZID:America/New_York
BEGIN:DAYLIGHT
TZOFFSETFROM:-0500
TZOFFSETTO:-0400
TZNAME:EDT
DTSTART:20190310T070000
END:DAYLIGHT
BEGIN:STANDARD
TZOFFSETFROM:-0400
TZOFFSETTO:-0500
TZNAME:EST
DTSTART:20191103T060000
END:STANDARD
END:VTIMEZONE
BEGIN:VEVENT
DTSTART;TZID=America/New_York:20190530T050000
DTEND;TZID=America/New_York:20190530T063000
DTSTAMP:20260425T074030
CREATED:20190523T182350Z
LAST-MODIFIED:20190523T182350Z
UID:5170-1559192400-1559197800@manhassetcasa.org
SUMMARY:CASA Sector Partner Meeting
DESCRIPTION:
URL:https://manhassetcasa.org/event/casa-sector-partner-meeting/
LOCATION:Central Administration Building Community Room\, 200 Memorial Place\, Manhasset\, NY\, 11030
END:VEVENT
END:VCALENDAR