BEGIN:VCALENDAR
VERSION:2.0
PRODID:-//Manhasset CASA - ECPv5.9.0//NONSGML v1.0//EN
CALSCALE:GREGORIAN
METHOD:PUBLISH
X-WR-CALNAME:Manhasset CASA
X-ORIGINAL-URL:https://manhassetcasa.org
X-WR-CALDESC:Events for Manhasset CASA
BEGIN:VTIMEZONE
TZID:America/New_York
BEGIN:DAYLIGHT
TZOFFSETFROM:-0500
TZOFFSETTO:-0400
TZNAME:EDT
DTSTART:20210314T070000
END:DAYLIGHT
BEGIN:STANDARD
TZOFFSETFROM:-0400
TZOFFSETTO:-0500
TZNAME:EST
DTSTART:20211107T060000
END:STANDARD
END:VTIMEZONE
BEGIN:VEVENT
DTSTART;TZID=America/New_York:20210621T193000
DTEND;TZID=America/New_York:20210621T203000
DTSTAMP:20260420T130251
CREATED:20210609T200007Z
LAST-MODIFIED:20210609T200553Z
UID:5440-1624303800-1624307400@manhassetcasa.org
SUMMARY:BACK BY POPULAR DEMAND!  BRINGING UP BOYS
DESCRIPTION:[vc_row][vc_column]	\n						\n						\n							 \n\n\n\n\n\n\n\n\n\n\n\n\n\n\n\n\nThis program is designed for parents and caregivers of boys ages 5-12. \nDuring this program we will discuss how adults can help boys grow into men of character. We will look at a variety of factors that affect their healthy development in both positive and negative ways. \nCLICK HERE TO REGISTER\n\n\n\n\n						\n					 \n			[/vc_column][/vc_row][vc_row][vc_column][vc_column_text] \n\n\n\n\n\n\n\nPlease note\, this presentation will not be recorded!\n\n\n\n\n\n\n\n[/vc_column_text][/vc_column][/vc_row]
URL:https://manhassetcasa.org/event/bringing-up-boys-2/
LOCATION:ZOOM MEETING
END:VEVENT
END:VCALENDAR